Workbook
Name ㄹㄹ: [1]유효성검사목록!#REF!
Name ㄹㄹ: [2]유효성검사목록!#REF!
Name ㅇㅇ: [1]유효성검사목록!#REF!
Name ㅇㅇ: [2]유효성검사목록!#REF!
Name 업무추진비: #REF!
Name 여비: #REF!
Name 예산: [1]유효성검사목록!#REF!
Name 예산: [2]유효성검사목록!#REF!
Name 운영비: [2]유효성검사목록!#REF!
Name 운영비: [1]유효성검사목록!#REF!
Name 운영비: #REF!
Name 인건비: #REF!

Sheet 1.예산총괄표
A1: =IF(B11="","1. 예산 총괄표-단체명","1. 예산 총괄표-"&B11) -> 1. 예산 총괄표-ㅇㅇㅇ컴퍼니
A2: ※ 아래 내용(파란색 글씨)은 예시입니다.
A3: ※ 수입예산과 지출예산의 총액은 같아야 합니다.
A4: ※ 총 사업비 중 최소 10% 이상 자부담액(사업수입+민간재원+자체부담경비)을 편성해야 합니다.
A5: ※ 국고보조금 내에서 경상경비는 30% 이하로 편성가능합니다.
A6: - 직접경비 : 공연예술 창작주체 지원 프로젝트 추진을 위한 운영비
A7: - 경상경비 : 공연예술 창작주체 지원 프로젝트 외 단체 일반 운영을 위한 경비(사무실, 연습실 임차료, 일용직 및 기타직 인건비, 각종 세금 등)
A8: ※ 회색 음영처리된 부분을 제외하고 작성해 주시기 바랍니다.
A10: 0. 개요
A11: 단체명 | B11: ㅇㅇㅇ컴퍼니 | C11: 부가가치세 과세/면세 | D11: 과세사업자 | E11: 면세사업자 | F11: ☜ 단체명 기입 및 과세/면세 사업자 선택, 확인사항 체크 바랍니다.
A12: 지원규모 | B12: =IF(OR(D12<20000000,D12>=500000000),"금액 입력 확인",IF(D12<100000000,"Band1",IF(D12<300000000,"Band2","Band3"))) -> Band3 | C12: 총 지원결정액 | D12: =D18 -> 300000000 | E12: ~2023년까지 예술위 사업 정산완료 여부
A13: 1차 교부신청액 | B13: =D12*0.5 -> 150000000 | C13: 2차 교부신청액 | D13: =D12*0.5 -> 150000000
A14: 국고보조금 교부 조건 동의 | B14: 본 단체 및 대표자는 국고보조금을 집행 및 관리함에 있어 가족 간 거래, 내부 거래, 목적 외 사용 등 보조금 교부 목적 및 사용에 위배되는 행위를 하지 않으며 이를 어길 시 관련 법 규정 및 지침에 의해 보조금 반환 및 향후 지원 제한 등 일체의 제재 조치를 받을 수 있음을 인지하고 이에 동의하며 국고보조금 교부를 신청합니다. 확인
A16: 1. 수입예산 | B16: 총액 | C16: =D23 -> 350000000
A17: 구분 | D17: 2024년 총 금액(원) | E17: 비율 | G17: 행사 수익금 관리계좌(해당사항 있는 경우) | J17: ☜ 자부담액(사업수입+민간재원+자체부담경비)를 기입하세요. 자부담률은 총 사업비의 10% 이상이 되어야 합니다.
A18: 공공재원(A) | B18: 한국문화예술위원회에 신청하는 보조금 | D18: ='2.예산집행계획'!E11 -> 300000000 | E18: =D18/D23 -> 0.85714286 | G18: 은행명 | H18: 신한은행 | J18: ☜ 티켓 판매 등 수익금 발생의 경우, 행사 수입 목표액을 작성해주세요. 해당 금액은 사업수입(B)으로 자동 합산됩니다.
A19: 사업수입(B) | B19: 사업 수입 | D19: =I30 -> 15000000 | E19: =D19/D23 -> 0.042857143 | G19: 예금주 | H19: ㅇㅇ단체 | J19: ☜ 수익금의 경우는 자체부담경비(D)가 아닌 사업수입(B)에 해당하며 금년 보조사업에 전액 재투입하셔야 합니다.
A20: 민간재원(C) | B20: 기업협찬 후원금 | D20: 1000000 | E20: =D20/D23 -> 0.0028571429 | G20: 계좌번호 | H20: 123456789 | J20: ☜ 행사 수익금 관리계좌의 경우, 해당 계좌 통장사본을 e나라도움 사업등록 시 함께 제출해주시기 바랍니다.
B21: 개인기부금 | D21: 1000000 | E21: =D21/D23 -> 0.0028571429 | G21: 예금종목 | H21: 보통예금
A22: 자체부담경비(D) | B22: 순수한 단체의 자체 자금 | D22: 33000000 | E22: =D22/D23 -> 0.094285714 | G22: 행사 수입 목표(해당사항 있는 경우 필수 기재)
A23: 합계(E) | D23: =SUM(D18:D22) -> 350000000 | E23: =SUM(E18:E22) -> 1 | G23: 방식 | H23: 내용 | I23: 금액
A24: 자부담액 | B24: [(B+C+D)/합계(E)]X100% | D24: =SUM(D19:D22) -> 50000000 | E24: =ROUND(SUM(E19:E22)/E23,3) -> 0.143 | G24: 티켓판매 | H24: 30,000원 x 500장 | I24: 15000000
A25: 재정자립도 | B25: [(B+D)/합계(E)]X100% | D25: =ROUND((D19+D22)/D23,3) -> 0.137
A27: 구분 | D27: 2024년 총 금액(원) | E27: 확정여부
A28: 문예기금 외 공공재원 (해당사항 있는 경우) | B28: 국고보조금(문화체육관광부 및 그 소속기관) | D28: 0 | E28: 확정
B29: 지자체보조금 | C29: 광역자치단체 | D29: 0 | E29: 미확정
C30: 기초자치단체 | D30: 0 | G30: 계 | I30: =SUM(I24:I29) -> 15000000
B31: 기타 국고 및 공공기관 지원금 | D31: 0 | G31: * 본 사업으로 발생한 위의 수익금을 금년도 보조금 사업에 전액 사용함을 확인합니다. 확인
B32: 해외기관 및 단체 지원금 | D32: 0
A33: 문예기금 외 공공재원 소계 | D33: =SUM(D28:D32) -> 0 | E33: =SUM(E28:E32) -> 0
A35: 2. 지출예산 | B35: 총액 | C35: =E53 -> 350000000
A36: ㅇ 세목별 예산 | G36: ㅇ 경비별 예산
A37: 보조비목 | B37: 보조세목 | C37: 국고보조금 | D37: 자기부담금 | E37: 총 예산액 | G37: 구분 | H37: 직접경비 | I37: 경상경비 | J37: ☜ 자동으로 산출되기 때문에 작성하실 필요가 없습니다. e나라도움 사업등록 시, 해당표를 기준으로 예산집행계획을 입력해 주세요.
A38: 인건비(110) | B38: 기타직보수 | C38: =SUMIFS(표3[국고보조금],표3[보조세목],B38) -> 54200000 | D38: =SUMIFS(표3[자기부담금],표3[보조세목],B38) -> 20800000 | E38: =SUM(C38:D38) -> 75000000 | G38: 일반지출 | H38: =SUMIF('2.예산집행계획'!A17:A105,H37,'2.예산집행계획'!E17:E192) -> 134800000 | I38: =SUMIF('2.예산집행계획'!A17:A105,I37,'2.예산집행계획'!E17:E192) -> 17200000 | J38: ☜ 국고보조금 내에서 경상경비는 30% 이하(창작공간 유형은 50% 이하)로 편성해야 합니다. 참고해 주세요.
A39: 인건비(110) | B39: 상용임금 | C39: =SUMIFS(표3[국고보조금],표3[보조세목],B39) -> 0 | D39: =SUMIFS(표3[자기부담금],표3[보조세목],B39) -> 0 | E39: =SUM(C39:D39) -> 0 | G39: 인건비 및 사례비 | H39: =SUMIF(표1[경비],H37,표1[국고보조금]) -> 77800000 | I39: =SUMIF(표1[경비],I37,표1[국고보조금]) -> 70200000
A40: 인건비(110) | B40: 일용임금 | C40: =SUMIFS(표3[국고보조금],표3[보조세목],B40) -> 16000000 | D40: =SUMIFS(표3[자기부담금],표3[보조세목],B40) -> 4000000 | E40: =SUM(C40:D40) -> 20000000 | G40: 합계 | H40: =SUM(H38:H39) -> 212600000 | I40: =SUM(I38:I39) -> 87400000
A41: 인건비(110) 소계 | C41: =SUM(C38:C40) -> 70200000 | D41: =SUM(D38:D40) -> 24800000 | E41: =SUM(E38:E40) -> 95000000 | G41: 비율 | H41: =H40/($H$40+$I$40) -> 0.70866667 | I41: =I40/($H$40+$I$40) -> 0.29133333
A42: 운영비(210) | B42: 일반수용비 | C42: =SUMIFS(표3[국고보조금],표3[보조세목],B42) -> 199250000 | D42: =SUMIFS(표3[자기부담금],표3[보조세목],B42) -> 9300000 | E42: =SUM(C42:D42) -> 208550000
A43: 운영비(210) | B43: 공공요금및제세 | C43: =SUMIFS(표3[국고보조금],표3[보조세목],B43) -> 1500000 | D43: =SUMIFS(표3[자기부담금],표3[보조세목],B43) -> 500000 | E43: =SUM(C43:D43) -> 2000000
A44: 운영비(210) | B44: 임차료 | C44: =SUMIFS(표3[국고보조금],표3[보조세목],B44) -> 21600000 | D44: =SUMIFS(표3[자기부담금],표3[보조세목],B44) -> 11500000 | E44: =SUM(C44:D44) -> 33100000
...

Sheet 2.예산집행계획
A1: =IF('1.예산총괄표'!B11="","2. 예산집행계획-단체명","2. 예산집행계획-"&'1.예산총괄표'!B11) -> 2. 예산집행계획-ㅇㅇㅇ컴퍼니
A2: ※ 인건비 및 사례비 편성내역 외 일반수용비, 임차료, 여비, 업무추진비 등에 대한 내역을 작성해 주시기 바랍니다.
A3: ※ 회색 음영처리된 부분을 제외하고 작성해 주시기 바랍니다. 인건비(기타직보수, 일용임금) 및 사례비의 경우 3.인력구성계획 시트를 작성하시면 자동으로 입력됩니다.
A4: ※ 총 사업비의 국고보조금 : 자기부담금 비율에 맞춰 세목별 국고보조금과 자기부담금을 편성해 주시기 바랍니다.
A5: ※ 아래 내용은 예시입니다. 삭제하여 작성해 주시기 바랍니다.
A6: ※ 지방비는 해당하시는 단체만 작성 부탁드리며(지방비 매칭 사업 등) 국고보조금과의 중복 정산을 방지하기 위한 참고용으로 e나라도움 정산대상은 아닙니다.
A7: ※ 변경사항에 대하여는 파란색으로 표시해 주시고 반드시 G열-변경사항 란에 변경내용을 작성해 주세요. 변경내용은 <변경신청> 시트에 작성하신 내용을 바탕으로 기입해 주세요.
A8: ※ 변경으로 인해 삭제된 항목에 대해서는 빨간색으로 표시해 주시고 예산금액은 삭제해 주세요. 또한, G열-변경사항 란에 변경내용을 작성해 주세요. 변경내용은 <변경신청> 시트에 작성하신 내용을 바탕으로 기입해 주세요.
E10: 국고보조금 합계 | F10: 자기부담금 합계 | G10: 지방비 합계 | H10: 총 합계
E11: =SUBTOTAL(9,E14:E149) -> 300000000 | F11: =SUBTOTAL(9,F14:F62) -> 50000000 | G11: =SUBTOTAL(9,G14:G62) -> 0 | H11: =SUBTOTAL(9,H14:H62) -> 350000000
A12: 구분 | C12: 편성내역 | E12: 재원구분 | I12: 비고
A13: 경비 | B13: 프로젝트명 | C13: 보조세목 | D13: 산출내역 | E13: 국고보조금 | F13: 자기부담금 | G13: 지방비 | H13: 총액
C14: 기타직보수 | D14: 기타직보수 | E14: =SUMIF(표1[지급형태],표3[[#This Row],[산출내역]],표1[국고보조금]) -> 54200000 | F14: =SUMIF(표1[지급형태],표3[[#This Row],[산출내역]],표1[자기부담금]) -> 20800000 | G14: 0 | H14: =표3[[#This Row],[국고보조금]]+표3[[#This Row],[자기부담금]] -> 75000000
C15: 일용임금 | D15: 일용임금 | E15: =SUMIF(표1[지급형태],표3[[#This Row],[산출내역]],표1[국고보조금]) -> 16000000 | F15: =SUMIF(표1[지급형태],표3[[#This Row],[산출내역]],표1[자기부담금]) -> 4000000 | G15: 0 | H15: =표3[[#This Row],[국고보조금]]+표3[[#This Row],[자기부담금]] -> 20000000
C16: 일반수용비 | D16: 사례비 | E16: =SUMIF(표1[지급형태],표3[[#This Row],[산출내역]],표1[국고보조금]) -> 77800000 | F16: =SUMIF(표1[지급형태],표3[[#This Row],[산출내역]],표1[자기부담금]) -> 2200000 | G16: 0 | H16: =표3[[#This Row],[국고보조금]]+표3[[#This Row],[자기부담금]] -> 80000000
A17: 직접경비 | C17: 고용부담금 | D17: 예술인고용보험 사업자부담금(필수편성) | E17: 450000 | F17: 300000 | G17: 0 | H17: =표3[[#This Row],[국고보조금]]+표3[[#This Row],[자기부담금]] -> 750000
A18: 직접경비 | C18: 공공요금및제세 | D18: 화재보험, 산재 또는 상해보험 등(필수편성) | E18: 1500000 | F18: 500000 | G18: 0 | H18: =표3[[#This Row],[국고보조금]]+표3[[#This Row],[자기부담금]] -> 2000000
A19: 직접경비 | C19: 일반수용비 | D19: 회계검증수수료(필수편성) | E19: 750000 | F19: 238000 | G19: 0 | H19: =표3[[#This Row],[국고보조금]]+표3[[#This Row],[자기부담금]] -> 988000
A20: 경상경비 | C20: 고용부담금 | D20: 4대보험 또는 2대보험 사업자부담금 | E20: 2000000 | F20: 200000 | G20: 0 | H20: =표3[[#This Row],[국고보조금]]+표3[[#This Row],[자기부담금]] -> 2200000
A21: 직접경비 | B21: <ㅇㅇㅇ>신작 | C21: 일반수용비 | D21: 홍보물인쇄 9,000,000원 | E21: 8500000 | F21: 500000 | G21: 0 | H21: =표3[[#This Row],[국고보조금]]+표3[[#This Row],[자기부담금]] -> 9000000
A22: 직접경비 | B22: <ㅇㅇㅇ>신작 | C22: 일반수용비 | D22: 무대 소품 제작 10,000,000원*1식 | E22: 10000000 | F22: 0 | G22: 0 | H22: =표3[[#This Row],[국고보조금]]+표3[[#This Row],[자기부담금]] -> 10000000
A23: 직접경비 | B23: <ㅇㅇㅇ>신작 | C23: 일반수용비 | D23: 무대 배경 3D 맵핑 18,000,000원 | E23: 15000000 | F23: 3000000 | G23: 0 | H23: =표3[[#This Row],[국고보조금]]+표3[[#This Row],[자기부담금]] -> 18000000
A24: 직접경비 | B24: <ㅇㅇㅇ>신작 | C24: 일반수용비 | D24: 영상제작비 5,000,000원*3식 | E24: 14000000 | F24: 1000000 | G24: 0 | H24: =표3[[#This Row],[국고보조금]]+표3[[#This Row],[자기부담금]] -> 15000000
A25: 직접경비 | B25: <ㅇㅇㅇ>신작 | C25: 일반수용비 | D25: 무대 제작 18,000,000원*1식 | E25: 16000000 | F25: 2000000 | G25: 0 | H25: =표3[[#This Row],[국고보조금]]+표3[[#This Row],[자기부담금]] -> 18000000
A26: 경상경비 | B26: <ㅇㅇㅇ>신작 | C26: 임차료 | D26: 공연장대관료 14,000,000원(부대시설사용비포함) | E26: 13600000 | F26: 400000 | G26: 0 | H26: =표3[[#This Row],[국고보조금]]+표3[[#This Row],[자기부담금]] -> 14000000
A27: 경상경비 | B27: 공통 | C27: 임차료 | D27: 단체 운영 공연장 임차료는 경상경비입니다 | E27: 0 | F27: 10000000 | G27: 0 | H27: =표3[[#This Row],[국고보조금]]+표3[[#This Row],[자기부담금]] -> 10000000
A28: 직접경비 | B28: <ㅇㅇㅇ>신작 | C28: 임차료 | D28: 의상대여 3,000,000원 | E28: 2500000 | F28: 500000 | G28: 0 | H28: =표3[[#This Row],[국고보조금]]+표3[[#This Row],[자기부담금]] -> 3000000
A29: 직접경비 | B29: 레퍼토리 공연 | C29: 일반수용비 | D29: 홍보물인쇄 6,562,000원 | E29: 6200000 | F29: 362000 | G29: 0 | H29: =표3[[#This Row],[국고보조금]]+표3[[#This Row],[자기부담금]] -> 6562000
A30: 직접경비 | B30: 레퍼토리 공연 | C30: 일반수용비 | D30: 무대 제작 18,000,000원*1식 | E30: 18000000 | H30: =표3[[#This Row],[국고보조금]]+표3[[#This Row],[자기부담금]] -> 18000000
A31: 직접경비 | B31: 레퍼토리 공연 | C31: 일반수용비 | D31: 무대 배경 3D 맵핑 18,000,000원 | E31: 18000000 | H31: =표3[[#This Row],[국고보조금]]+표3[[#This Row],[자기부담금]] -> 18000000
A32: 직접경비 | B32: 레퍼토리 공연 | C32: 일반수용비 | D32: 무대 소품 제작 15,000,000원*1식 | E32: 15000000 | H32: =표3[[#This Row],[국고보조금]]+표3[[#This Row],[자기부담금]] -> 15000000
A33: 직접경비 | B33: 레퍼토리 공연 | C33: 임차료 | D33: 음향조명 1,000,000원*2식*2회 | E33: 3900000 | F33: 100000 | G33: 0 | H33: =표3[[#This Row],[국고보조금]]+표3[[#This Row],[자기부담금]] -> 4000000
A34: 직접경비 | B34: 공통 | C34: 사업추진비 | D34: 워크숍 참여자 간담회 식비 30명*20,000원*4회 | E34: 2000000 | F34: 400000 | G34: 0 | H34: =표3[[#This Row],[국고보조금]]+표3[[#This Row],[자기부담금]] -> 2400000
A35: 직접경비 | B35: 공통 | C35: 국내여비 | D35: 숙박비 50,000원*10실*6박*2회 | E35: 3000000 | F35: 3000000 | G35: 0 | H35: =표3[[#This Row],[국고보조금]]+표3[[#This Row],[자기부담금]] -> 6000000
A36: 경상경비 | B36: 공통 | C36: 임차료 | D36: 연습실 대관료 300,000원*7개월 | E36: 1600000 | F36: 500000 | G36: 0 | H36: =표3[[#This Row],[국고보조금]]+표3[[#This Row],[자기부담금]] -> 2100000
A37: 직접경비 | B37: 공통 | C37: 공공요금및제세 | H37: =표3[[#This Row],[국고보조금]]+표3[[#This Row],[자기부담금]] -> 0
H38: =표3[[#This Row],[국고보조금]]+표3[[#This Row],[자기부담금]] -> 0
H39: =표3[[#This Row],[국고보조금]]+표3[[#This Row],[자기부담금]] -> 0
H40: =표3[[#This Row],[국고보조금]]+표3[[#This Row],[자기부담금]] -> 0
H41: =표3[[#This Row],[국고보조금]]+표3[[#This Row],[자기부담금]] -> 0
...

Sheet 3.인력구성계획
A1: =IF('1.예산총괄표'!B11="","3. 인력구성계획-단체명","3. 인력구성계획-"&'1.예산총괄표'!B11) -> 3. 인력구성계획-ㅇㅇㅇ컴퍼니
A2: ※ 참여인력구성에 관한 사항을 작성해 주시기 바랍니다. 향후 사업 홍보 및 설문조사 진행을 위하여 참여자 정보(연락처)를 정확히 기입해 주세요.
A3: ※ 인건비(기타직보수, 일용임금)는 4대보험 또는 2대보험을 보장하는 근로계약을 체결한 예술인에 대해 편성하는 항목입니다. * 확정된 내역은 모두 작성해주시고, 미확정된 내역과 연락처 등은 선정 이후 작성해주셔도 됩니다.
A4: - 기타직보수 : 1년 미만 고용하는 인력 보수(계약직)
A5: - 일용임금 : 아르바이트 및 보조 인력 보수
A6: ※ 사례비는 4대보험 또는 2대보험에 가입한 근로자가 아닌 문화예술용역계약을 체결한 예술인에 대해 편성하는 항목입니다. 사례비를 지급 받는 예술인의 경우, 예술인고용보험을 필수로 가입해야 합니다.
A7: ※ 지방비는 해당하시는 단체만 작성 부탁드리며(지방비 매칭 사업 등) 국고보조금과의 중복 정산을 방지하기 위한 참고용으로 e나라도움 정산대상은 아닙니다.
A8: ※ 회색 음영처리된 부분을 제외하고 작성해 주시기 바랍니다.
A9: ※ 아래 내용은 예시입니다. 삭제하여 작성해 주시기 바랍니다.
A10: ※ 변경사항에 대하여는 파란색으로 표시해 주시고 반드시 G열-변경사항 란에 변경내용을 작성해 주세요. 변경내용은 <변경신청> 시트에 작성하신 내용을 바탕으로 기입해 주세요.
A11: ※ 변경으로 인해 삭제된 항목에 대해서는 빨간색으로 표시해 주시고 예산금액은 삭제해 주세요. G열-변경사항 란에 변경내용을 작성해 주세요. 변경내용은 <변경신청> 시트에 작성하신 내용을 바탕으로 기입해 주세요.
P13: 국고보조금 합계 | Q13: 자기부담금 합계 | R13: 지방비 합계 | S13: 총 합계
P14: =SUBTOTAL(9,P17:P112) -> 148000000 | Q14: =SUBTOTAL(9,Q17:Q84) -> 27000000 | R14: =SUBTOTAL(9,R17:R84) -> 0 | S14: =SUBTOTAL(9,S17:S84) -> 175000000
A15: 구분 | D15: 기본정보 | J15: 계약기간 | L15: 지급정보 | O15: 예술인고용보험 | P15: 재원구분
A16: 번호 | B16: 경비 | C16: 프로젝트명 | D16: 성명 | E16: 생년 | F16: 성별 | G16: 연락처 | H16: 현직(소속) | I16: 역할 | J16: 시작일 | K16: 종료일 | L16: 지급형태 | M16: 지급방식 | N16: 지급시기 | O16: 해당여부 | P16: 국고보조금 | Q16: 자기부담금 | R16: 지방비 | S16: 총액
A17: 1 | B17: 경상경비 | C17: 공통 | D17: 오길동 | E17: 1988 | F17: 남 | G17: 010-1234-1234 | H17: ㅇㅇㅇㅇ | I17: 기획행정전담 | J17: 45323 | K17: 45657 | L17: 기타직보수 | M17: 분할지급 | N17: 매월 | O17: 해당없음 | P17: 15000000 | Q17: 5000000 | S17: =표1[[#This Row],[국고보조금]]+표1[[#This Row],[자기부담금]] -> 20000000
A18: 2 | B18: 경상경비 | C18: 공통 | D18: 이길동 | E18: 1972 | F18: 여 | G18: 000-0000-0000 | H18: ㅇㅇㅇㅇ | I18: 기획행정전담 | J18: 45444 | K18: 45657 | L18: 기타직보수 | M18: 분할지급 | N18: 매월 | O18: 해당없음 | P18: 15000000 | Q18: 5000000 | S18: =표1[[#This Row],[국고보조금]]+표1[[#This Row],[자기부담금]] -> 20000000
A19: 3 | B19: 경상경비 | C19: 공통 | D19: 강길동 | E19: 1990 | F19: 남 | G19: 000-0000-0000 | H19: ㅇㅇㅇㅇ | I19: 안전관리 | J19: 45444 | K19: 45657 | L19: 기타직보수 | M19: 분할지급 | N19: 매월 | O19: 해당없음 | P19: 10000000 | Q19: 5000000 | S19: =표1[[#This Row],[국고보조금]]+표1[[#This Row],[자기부담금]] -> 15000000
A20: 4 | B20: 경상경비 | C20: 공통 | D20: 한길동 | E20: 1996 | F20: 여 | G20: 000-0000-0000 | H20: ㅇㅇㅇㅇ | I20: 하우스매니저 | J20: 45444 | K20: 45657 | L20: 기타직보수 | M20: 분할지급 | N20: 매월 | O20: 해당없음 | P20: 10000000 | Q20: 5000000 | S20: =표1[[#This Row],[국고보조금]]+표1[[#This Row],[자기부담금]] -> 15000000
A21: 5 | B21: 경상경비 | C21: [ㅇㅇㅇ]신작 | D21: 정길동 | E21: 1975 | F21: 여 | G21: 000-0000-0001 | H21: aa | I21: 음향스탭 | L21: 일용임금 | M21: 일괄지급 | N21: 12월 | O21: 해당없음 | P21: 8000000 | Q21: 2000000 | S21: =표1[[#This Row],[국고보조금]]+표1[[#This Row],[자기부담금]] -> 10000000
A22: 6 | B22: 경상경비 | C22: [ㅇㅇㅇ]신작 | D22: 홍길동 | E22: 1990 | F22: 여 | G22: 000-0000-0002 | H22: aadf | I22: 조명스탭 | L22: 일용임금 | M22: 일괄지급 | N22: 12월 | O22: 해당없음 | P22: 8000000 | Q22: 2000000 | S22: =표1[[#This Row],[국고보조금]]+표1[[#This Row],[자기부담금]] -> 10000000
A23: 7 | B23: 경상경비 | C23: [ㅇㅇㅇ]신작 | D23: 황길동 | E23: 1972 | F23: 남 | G23: 000-0000-0003 | H23: asdf | I23: 홍보 마케팅 | L23: 기타직보수 | M23: 분할지급 | N23: 매월 | O23: 해당없음 | P23: 4200000 | Q23: 800000 | S23: =표1[[#This Row],[국고보조금]]+표1[[#This Row],[자기부담금]] -> 5000000
A24: 8 | B24: 직접경비 | C24: [ㅇㅇㅇ]레퍼토리 | D24: 김한국 | E24: 1980 | F24: 남 | G24: 000-0000-0004 | H24: qwer | I24: 프로그램 1 초청강사 | L24: 사례비 | M24: 분할지급 | S24: =표1[[#This Row],[국고보조금]]+표1[[#This Row],[자기부담금]] -> 0
A25: 9 | B25: 직접경비 | C25: [ㅇㅇㅇ]레퍼토리 | D25: 이예술 | E25: 1982 | F25: 여 | G25: 000-0000-0005 | H25: zxv | I25: 프로그램 2 초청강사 | J25: 45413 | K25: 45473 | L25: 사례비 | M25: 분할지급 | N25: 11월, 12월 | O25: 해당없음 | P25: 5000000 | S25: =표1[[#This Row],[국고보조금]]+표1[[#This Row],[자기부담금]] -> 5000000
A26: 10 | B26: 직접경비 | C26: [ㅇㅇㅇ]신작 | I26: 배우 | L26: 사례비 | M26: 분할지급 | O26: 일반예술인 | P26: 800000 | Q26: 100000 | S26: =표1[[#This Row],[국고보조금]]+표1[[#This Row],[자기부담금]] -> 900000
A27: 11 | B27: 직접경비 | C27: [ㅇㅇㅇ]신작 | I27: 배우 | L27: 사례비 | M27: 분할지급 | O27: 일반예술인 | P27: 800000 | Q27: 100000 | S27: =표1[[#This Row],[국고보조금]]+표1[[#This Row],[자기부담금]] -> 900000
A28: 12 | B28: 직접경비 | C28: [ㅇㅇㅇ]신작 | I28: 배우 | L28: 사례비 | M28: 분할지급 | O28: 일반예술인 | P28: 800000 | Q28: 100000 | S28: =표1[[#This Row],[국고보조금]]+표1[[#This Row],[자기부담금]] -> 900000
A29: 13 | B29: 직접경비 | C29: [ㅇㅇㅇ]신작 | I29: 배우 | L29: 사례비 | M29: 분할지급 | O29: 일반예술인 | P29: 800000 | Q29: 100000 | S29: =표1[[#This Row],[국고보조금]]+표1[[#This Row],[자기부담금]] -> 900000
A30: 14 | B30: 직접경비 | C30: [ㅇㅇㅇ]신작 | I30: 배우 | L30: 사례비 | M30: 분할지급 | O30: 일반예술인 | P30: 800000 | Q30: 100000 | S30: =표1[[#This Row],[국고보조금]]+표1[[#This Row],[자기부담금]] -> 900000
A31: 15 | B31: 직접경비 | C31: [ㅇㅇㅇ]신작 | I31: 배우 | L31: 사례비 | M31: 분할지급 | O31: 일반예술인 | P31: 800000 | Q31: 100000 | S31: =표1[[#This Row],[국고보조금]]+표1[[#This Row],[자기부담금]] -> 900000
A32: 16 | B32: 직접경비 | C32: [ㅇㅇㅇ]신작 | I32: 배우 | L32: 사례비 | M32: 분할지급 | O32: 일반예술인 | P32: 1000000 | Q32: 200000 | S32: =표1[[#This Row],[국고보조금]]+표1[[#This Row],[자기부담금]] -> 1200000
A33: 17 | B33: 직접경비 | C33: [ㅇㅇㅇ]신작 | I33: 배우 | L33: 사례비 | M33: 분할지급 | O33: 일반예술인 | P33: 1000000 | Q33: 200000 | S33: =표1[[#This Row],[국고보조금]]+표1[[#This Row],[자기부담금]] -> 1200000
A34: 18 | B34: 직접경비 | C34: [ㅇㅇㅇ]신작 | I34: 배우 | L34: 사례비 | M34: 분할지급 | O34: 일반예술인 | P34: 1000000 | Q34: 200000 | S34: =표1[[#This Row],[국고보조금]]+표1[[#This Row],[자기부담금]] -> 1200000
A35: 19 | B35: 직접경비 | C35: [ㅇㅇㅇ]신작 | I35: 배우 | L35: 사례비 | M35: 분할지급 | O35: 일반예술인 | P35: 1000000 | Q35: 200000 | S35: =표1[[#This Row],[국고보조금]]+표1[[#This Row],[자기부담금]] -> 1200000
A36: 20 | B36: 직접경비 | C36: [ㅇㅇㅇ]신작 | I36: 배우 | L36: 사례비 | M36: 분할지급 | O36: 일반예술인 | P36: 1000000 | Q36: 200000 | S36: =표1[[#This Row],[국고보조금]]+표1[[#This Row],[자기부담금]] -> 1200000
A37: 21 | B37: 직접경비 | C37: [ㅇㅇㅇ]신작 | I37: 배우 | L37: 사례비 | M37: 분할지급 | O37: 일반예술인 | P37: 1000000 | Q37: 200000 | S37: =표1[[#This Row],[국고보조금]]+표1[[#This Row],[자기부담금]] -> 1200000
... A69: 53 | B69: 직접경비 | C69: [ㅇㅇㅇ]레퍼토리 | I69: 배우 | L69: 사례비 | M69: 분할지급 | O69: 일반예술인 | P69: 2000000 | Q69: 0 | S69: =표1[[#This Row],[국고보조금]]+표1[[#This Row],[자기부담금]] -> 2000000
S70: =표1[[#This Row],[국고보조금]]+표1[[#This Row],[자기부담금]] -> 0
S71: =표1[[#This Row],[국고보조금]]+표1[[#This Row],[자기부담금]] -> 0
S72: =표1[[#This Row],[국고보조금]]+표1[[#This Row],[자기부담금]] -> 0
...

Sheet 참고. 편성가능한 예산세목
A1: [참고] 편성가능한 예산세목
A6: 보조세목 | B6: 편성가능한 항목 | C6: 비고 | D6: 경상경비/직접경비 구분
A7: 기타직보수 | B7: ㅇ 1년 미만으로 고용하는 인력 보수 | C7: ㅇ 예술위원회 연수단원, 무대기술인턴, 공연예술전문인력 대상 인건비 중복(추가) 집행 불가 | D7: 경상경비
A8: 일용임금 | B8: ㅇ 아르바이트 및 보조인력 임금
A9: 고용부담금 | B9: ㅇ 4대보험, 2대보험 사업자부담금 | D9: 경상경비
B10: ㅇ (필수편성) 예술인고용보험 사업자부담금 | D10: 직접경비
A11: 일반수용비 | B11: ㅇ 사례비(원천세 포함) | C11: ㅇ 예술위원회 연수단원, 무대기술인턴, 공연예술전문인력 대상 인건비 중복(추가) 집행 불가 | D11: 직접경비
B12: ㅇ 안내·홍보물 등 제작비
B13: ㅇ 출판·인쇄비
B14: ㅇ 재료 및 소모성 물품 구입비
B15: ㅇ 무대 및 소품 등 제작비
B16: ㅇ 저작권료
B17: ㅇ 공연장 안전관리 컨설팅비 | C17: ㅇ 안전관리 미흡 공연장에 해당하거나 공연장 안전관리 컨설팅을 원하는 단체 대상으로 추후 별도 안내
B18: ㅇ 회계검사 수수료 | C18: ㅇ 총사업비(보조금+자부담) 기준 회계검증수수료 - 1천 5백만원 이상 ~ 3천만원 미만 : 302,000원 - 3천만원 이상 ~ 4천만원 미만 : 360,000원 - 4천만원 이상 ~ 5천만원 미만 : 390,000원 - 5천만원 이상 ~ 6천만원 미만 : 541,000원 - 6천만원 이상 ~ 7천만원 미만 : 586,000원 - 7천만원 이상 ~ 8천만원 미만 : 631,000원 - 8천만원 이상 ~ 9천만원 미만 : 676,000원 - 9천만원 이상 ~ 1억원 미만 : 722,000원 - 1억원 이상 ~ 2억원 미만 : 908,000원 - 2억원 이상 ~ 3억원 미만 : 957,000원 - 3억원 이상 ~ 4억원 미만 : 988,000원 - 4억원 이상 ~ 5억원 미만 : 1,032,000원
B19: ㅇ 영유아 자녀돌봄비
A20: 공공요금 및 제세 | B20: ㅇ (필수편성) 보험료(화재보험, 산재 및 상해보험, 행사보험 등) | C20: ㅇ 화재보험 필수 | D20: 직접경비
B21: ㅇ 공공요금(전기료 및 우편료 등) | D21: 경상경비
A22: 임차료 | B22: ㅇ 조명, 음향, 악기 등 임차료 | D22: 직접경비 (단체 운영 공연장, 연습실, 사무실 임차료는 경상경비)
B23: ㅇ 차량(자동차, 대형버스)
B24: ㅇ 공간 임차 및 대관료(공연, 연습, 워크숍 진행 등)
A25: 국내여비 | B25: ㅇ 교통비, 숙박비, 유류비 등 | C25: ㅇ 공무원 여비규정에 따라 한도 내 실비 - 교통비 : 항공, 철도, 선박, 버스 운임료 - 숙박비 : 서울특별시 10만원/광역시 8만원/그 외 7만원 * 제주특별자치도, 세종특별자치시는 7만원 한도 | D25: 직접경비
A26: 국외여비 | B26: ㅇ 교통비(항공권), 숙박비
B27: ㅇ 외빈 초청에 따른 여비(항공권 및 숙박비)
A28: 사업추진비 | B28: ㅇ 간담회비용 (워크숍, 간담회 등)
