Workbook
Name ㄹㄹ: 유효성검사목록!#REF!
Name ㄹㄹ: 유효성검사목록!#REF!
Name ㄹㄹ: 유효성검사목록!#REF!
Name ㄹㄹ: 유효성검사목록!#REF!
Name ㄹㄹ: 유효성검사목록!#REF!
Name ㅇㅇ: 유효성검사목록!#REF!
Name ㅇㅇ: 유효성검사목록!#REF!
Name ㅇㅇ: 유효성검사목록!#REF!
Name ㅇㅇ: 유효성검사목록!#REF!
Name 업무추진비: 유효성검사목록!$A$10
Name 여비: 유효성검사목록!$D$8:$D$9
Name 예산: 유효성검사목록!#REF!
Name 예산: 유효성검사목록!#REF!
Name 예산: 유효성검사목록!#REF!
Name 운영비: 유효성검사목록!#REF!
Name 운영비: 유효성검사목록!#REF!
Name 운영비: 유효성검사목록!#REF!
Name 운영비: 유효성검사목록!#REF!
Name 운영비: 유효성검사목록!#REF!
Name 인건비: 유효성검사목록!$D$2:$D$4

Sheet 1.인력구성계획
A1: =IF(D8="","1. 인력구성계획-단체명","1. 인력구성계획-"&D8) -> 1. 인력구성계획-단체명
A2: ※ 아래 내용(파란색 글씨)은 예시입니다.
A3: ※ 참여 예정인 제작진 및 출연진에 대한 정보를 작성해 주세요.
A4: ※ 참여 여부를 확인하기 위해 당사자에게 연락이 갈 수 있습니다.
A5: ※ 공정한 심의 진행(심의위원 구성 및 관계자에 대한 회피, 제척 확인 등)을 위해 정확한 정보를 기입해 주시기 바랍니다.
A6: ※ 선정 이후 지원신청 시 계획한 제작진 및 출연진 구성과 현저히 변경되는 경우 불이익이 있을 수 있습니다.
A8: 단체명 | F8: ☜ 단체명을 기입해주세요.
A10: 연번 | B10: 사업유형 | C10: 성명 | D10: 연락처 | E10: 역할 | F10: 소속 | G10: 참여기간
A11: 1 | B11: 공연제작(신작) | C11: 홍길동 | D11: 000-0000-0000 | E11: 연출 | F11: 단원(대표자) | G11: 2024년 1월 ~ 2026년 12월
A12: 2 | B12: 공연제작(재공연) | C12: 이길동 | D12: 000-0000-0000 | E12: 기획 및 행정 | F12: 단원 | G12: 2024년 1월 ~ 2026년 12월
A13: 3 | B13: 축제운영 | C13: 김길동 | D13: 000-0000-0000 | E13: 홍보 및 마케팅 | F13: 프리랜서 | G13: 2024년 1월 ~ 2024년 12월
A14: 4 | B14: 공연비평 | C14: 박길동 | D14: 000-0000-0000 | E14: 움직임 연출 | F14: ㅇㅇㅇ무용단 | G14: 2024년 6월 ~ 2024년 7월
A15: 5 | B15: 민간공연장 운영 | C15: 장길동 | D15: 000-0000-0000 | E15: 연주자(바이올린) | F15: 단원 | G15: 2024년 8월 ~ 2024년 10월
A16: 6 | B16: 공연제작(신작) | C16: 송길동 | D16: 000-0000-0000 | E16: 연주자(첼로) | F16: 단원 | G16: 2024년 8월 ~ 2024년 10월
A17: 7 | B17: 공연제작(재공연) | C17: 임길동 | D17: 000-0000-0000 | E17: 연주자(피아노) | F17: 단원 | G17: 2024년 8월 ~ 2024년 10월
A18: 8
A19: 9
A20: 10
A21: 11
A22: 12
A23: 13
A24: 14
A25: 15
A26: 16
A27: 17
A28: 18
A29: 19
... A70: 60

Sheet 2.임원, 이사회 명단(협회만 해당)
A1: =IF('1.인력구성계획'!D8="","2. 임원, 이사회 명단-단체명","2. 임원, 이사회 명단-"&'1.인력구성계획'!D8) -> 2. 임원, 이사회 명단-단체명
A2: ※ 아래 내용(파란색 글씨)은 예시입니다.
A3: ※ 회원으로 구성된 각종 협회의 경우 소속 임원진 대한 정보를 작성해 주세요. (이사장, 감사, 이사 등)
A4: ① 2023년 현직 임원 기준, ② 상임/비상임 모두 작성, ③ 신청주체 협회 소속 임원만 작성(지역지회/지부 등은 제외))
A5: ※ 공정한 심의 진행(심의위원 구성 및 관계자에 대한 회피, 제척 확인 등)을 위해 정확한 정보를 기입해 주시기 바랍니다.
A7: 연번 | B7: 직위 | C7: 성명 | D7: 연락처 | E7: 현직(주요) | F7: 상임/비상임 여부 | G7: 임기
A8: 1 | B8: 이사장 | C8: 홍길동 | D8: 000-0000-0000 | E8: ㅇㅇ대학교 교수 | F8: 상임 | G8: 2022년 1월 ~ 2024년 12월
A9: 2 | B9: 부이사장 | C9: 이길동 | D9: 000-0000-0000 | E9: ㅇㅇ극단 대표 | F9: 비상임 | G9: 2022년 1월 ~ 2024년 12월
A10: 3 | B10: 감사 | C10: 김길동 | D10: 000-0000-0000 | E10: ㅇㅇ대학교 교수 | F10: 비상임 | G10: 2022년 1월 ~ 2022년 12월
A11: 4 | B11: ㅇㅇ분과 이사 | C11: 박길동 | D11: 000-0000-0000 | E11: ㅇㅇ대학교 교수 | F11: 비상임 | G11: 2022년 6월 ~ 2022년 7월
A12: 5 | B12: ㅇㅇ분과 이사 | C12: 장길동 | D12: 000-0000-0000 | E12: ㅇㅇ대학교 교수 | F12: 비상임 | G12: 2022년 8월 ~ 2022년 10월
A13: 6 | B13: ㅇㅇ분과 이사 | C13: 송길동 | D13: 000-0000-0000 | E13: ㅇㅇ대학교 교수 | F13: 비상임 | G13: 2022년 8월 ~ 2022년 10월
A14: 7 | B14: ㅇㅇ분과 이사 | C14: 임길동 | D14: 000-0000-0000 | E14: ㅇㅇ대학교 교수 | F14: 비상임 | G14: 2022년 8월 ~ 2022년 10월
A15: 8
A16: 9
A17: 10
A18: 11
A19: 12
A20: 13
A21: 14
A22: 15
A23: 16
A24: 17
A25: 18
A26: 19
... A67: 60

Sheet 3.예산총괄표
A1: =IF('1.인력구성계획'!D8="","3. 예산총괄표-단체명","3. 예산총괄표-"&'1.인력구성계획'!D8) -> 3. 예산총괄표-단체명
A2: ※ 아래 내용(파란색 글씨)은 예시입니다.
A3: ※ 수입예산은 단체 자기부담금(사업수입+자체부담경비)과 보조금, 기타 협찬금을 포함한 총 비용으로 작성해주세요.
A4: ※ 총 사업비 중 최소 10% 이상 자부담액(사업수입+민간재원+자체부담경비)을 편성해야 합니다.
A5: ※ 국고보조금 내에서 경상경비는 창작공간의 경우 50% 이하, 그외 유형의 경우 30% 이하로 편성가능합니다.
A6: - 직접경비 : 공연예술 창작주체 지원 프로젝트 추진을 위한 운영비
A7: - 경상경비 : 공연예술 창작주체 지원 프로젝트 외 단체 일반 운영을 위한 경비(사무실, 연습실 임차료, 상근직원 인건비, 각종 세금 등)
A8: ※ 회색 음영처리된 부분을 제외하고 작성해 주시기 바랍니다.
A10: 0. 보조금 신청
A11: 구분 | B11: 금액(원) | C11: 지원규모
A12: 연간 지원신청금액 | B12: 100000000 | C12: =IF(OR(B12<20000000,B12>=500000000),"금액 입력 확인",IF(B12<100000000,"Band1",IF(B12<300000000,"Band2","Band3"))) -> Band2
A14: 1. 수입예산
A15: 구분 | D15: 2024년 총 금액(원) | E15: 2025년 총 금액(원) | F15: 2026년 총 금액(원)
A16: 공공재원(A) | B16: 한국문화예술위원회에 신청하는 보조금 | D16: =B12 -> 100000000 | E16: =B12 -> 100000000 | F16: =B12 -> 100000000
A17: 사업수입(B) | B17: 사업 수입 | F17: 1000000 | G17: ☜ 자부담액(사업수입+민간재원+자체부담경비)을 기입하세요.
B18: 사업 외 수입
A19: 민간재원(C) | B19: 기업협찬 후원금 | E19: 5000000
B20: 개인기부금
A21: 자체부담경비(D) | B21: 순수한 단체의 자체 자금 | D21: 12000000 | E21: 7000000 | F21: 11000000
A22: 합계(E) | D22: =SUM(D16:D21) -> 112000000 | E22: =SUM(E16:E21) -> 112000000 | F22: =SUM(F16:F21) -> 112000000
A23: 자부담율 | B23: [(B+C+D)/합계(E)]X100% | D23: =ROUND(SUM(D17:D21)/D22,3) -> 0.107 | E23: =ROUND(SUM(E17:E21)/E22,3) -> 0.107 | F23: =ROUND(SUM(F17:F21)/F22,3) -> 0.107 | G23: ☜ 자부담율은 총 사업비의 10% 이상이 되어야 합니다.
A24: 재정자립도 | B24: [(B+D)/합계(E)]X100% | D24: =ROUND((D17+D18+D21)/D22,3) -> 0.107 | E24: =ROUND((E17+E18+E21)/E22,3) -> 0.063 | F24: =ROUND((F17+F18+F21)/F22,3) -> 0.107
A26: 구분 | D26: 2024년 총 금액(원) | E26: 2025년 총 금액(원) | F26: 2026년 총 금액(원) | G26: 확정여부
A27: 문예기금 외 공공재원 | B27: 국고보조금(문화체육관광부 및 그 소속기관)
B28: 지자체보조금 | C28: 광역자치단체
C29: 기초자치단체
B30: 기타 국고 및 공공기관 지원금
B31: 해외기관 및 단체 지원금
A32: 문예기금 외 공공재원 소계 | D32: =SUM(D26:D31) -> 0 | E32: =SUM(E26:E31) -> 0 | F32: =SUM(F26:F31) -> 0
A34: 2. 지출예산 | B34: ☜ 3~5번 시트를 작성하면 자동으로 연도별 총사업비(국고보조금+자부담액)의 경비별 금액이 표시됩니다.
A35: ㅇ 경비별 예산
A36: 구분 | B36: 2024년 총 금액(원) | C36: 2025년 총 금액(원) | D36: 2026년 총 금액(원)
A37: 직접경비 | B37: =SUMIF(표7_452[경비],A37,표7_452[총액]) -> 80100000 | C37: =SUMIF(표7_4523[경비],A37,표7_4523[총액]) -> 80100000 | D37: =SUMIF(표7_45[경비],A37,표7_45[총액]) -> 80100000
A38: 경상경비 | B38: =SUMIF(표7_452[경비],'3.예산총괄표'!A38,표7_452[총액]) -> 31900000 | C38: =SUMIF(표7_4523[경비],A38,표7_4523[총액]) -> 31900000 | D38: =SUMIF(표7_45[경비],A38,표7_45[총액]) -> 31900000
A39: 합계 | B39: =SUM(B37:B38) -> 112000000 | C39: =SUM(C37:C38) -> 112000000 | D39: =SUM(D37:D38) -> 112000000
A41: ㅇ 사업 유형별 예산
A42: 구분 | B42: 2024년 총 금액(원) | C42: 2025년 총 금액(원) | D42: 2026년 총 금액(원)
A43: 공연제작(신작) | B43: =SUMIF(표7_452[사업유형],A43,표7_452[총액]) -> 1900000 | C43: =SUMIF(표7_4523[사업유형],A43,표7_4523[총액]) -> 32900000 | D43: =SUMIF(표7_45[사업유형],A43,표7_45[총액]) -> 1900000
A44: 공연제작(레퍼토리) | B44: =SUMIF(표7_452[사업유형],A44,표7_452[총액]) -> 31000000 | C44: =SUMIF(표7_4523[사업유형],A44,표7_4523[총액]) -> 1000000 | D44: =SUMIF(표7_45[사업유형],A44,표7_45[총액]) -> 6000000
A45: 축제운영 | B45: =SUMIF(표7_452[사업유형],A45,표7_452[총액]) -> 51000000 | C45: =SUMIF(표7_4523[사업유형],A45,표7_4523[총액]) -> 20000000 | D45: =SUMIF(표7_45[사업유형],A45,표7_45[총액]) -> 45000000
...

Sheet 4.2024년 예산
A1: =IF('1.인력구성계획'!D8="","4. 2024년(1차년도) 예산집행계획-단체명","4. 2024년(1차년도) 예산집행계획-"&'1.인력구성계획'!D8) -> 4. 2024년(1차년도) 예산집행계획-단체명
A2: ※ 금액 입력 시 숫자만 입력해 주시기 바랍니다.
A3: ※ 수입예산 총액과 지출예산 총액은 같아야 합니다.
A4: ※ 국고보조금 내에서 경상경비는 창작공간의 경우 50% 이하, 그외 유형의 경우 30% 이하로 편성가능합니다.
A5: - 직접경비 : 중장기창작지원 프로젝트 추진을 위한 운영비
A6: - 경상경비 : 중장기창작지원 프로젝트 외 단체 일반 운영을 위한 경비(사무실, 연습실 임차료, 상근직원 인건비, 각종 세금 등)
A7: ※ 예술인고용보험료, 상해 및 산재보험 등 보험료에 대해 필수 편성해 주시기 바랍니다.
A8: ※ 아래 내용(파란색 글씨)은 예시입니다.
A9: ※ 회색 음영처리된 부분을 제외하고 작성해 주시기 바랍니다.
A11: 2024년(1차년도) 예산
A12: 1. 수입예산 : | B12: =F20 -> 112000000 | J12: [참고]2024년(1차년도) 예산 국고보조금 경비 비율
A13: 구분 | F13: 금액(원) | G13: 비율 | J13: 구분 | K13: 직접경비 | L13: 경상경비
A14: 공공재원(A) | D14: 한국문화예술위원회에 신청하는 보조금 | F14: ='3.예산총괄표'!D16 -> 100000000 | G14: =F14/$F$20 -> 0.89285714 | J14: 합계 | K14: =SUMIF(표7_452[경비],K13,표7_452[국고보조금]) -> 70100000 | L14: =SUMIF(표7_452[경비],L13,표7_452[국고보조금]) -> 29900000
A15: 사업수입(B) | D15: 사업 수입 | F15: ='3.예산총괄표'!D17 -> 0 | G15: =F15/$F$20 -> 0 | J15: 비율 | K15: =IFERROR(K14/$F$14,"-") -> 0.701 | L15: =IFERROR(L14/$F$14,"-") -> 0.299
D16: 사업 외 수입 | F16: ='3.예산총괄표'!D18 -> 0 | G16: =F16/$F$20 -> 0 | J16: ※ 국고보조금 내에서 경상경비는 창작공간의 경우 50% 이하, 그외 유형의 경우 30% 이하로 편성가능합니다.
A17: 민간재원(C) | D17: 기업협찬 후원금 | F17: ='3.예산총괄표'!D19 -> 0 | G17: =F17/$F$20 -> 0
D18: 개인기부금 | F18: ='3.예산총괄표'!D20 -> 0 | G18: =F18/$F$20 -> 0
A19: 자체부담경비(D) | D19: 순수한 단체의 자체 자금 | F19: ='3.예산총괄표'!D21 -> 12000000 | G19: =F19/$F$20 -> 0.10714286
A20: 총 계(E) | F20: =SUM(F14:F19) -> 112000000 | G20: =F20/$F$20 -> 1
A21: 자부담율 | D21: [(B+C+D)/합계(E)]×100% | G21: ='3.예산총괄표'!D23 -> 0.107
F24: 국고보조금 합계 | G24: 자기부담금 합계 | H24: 총 합계
A25: 2. 지출예산 : | B25: =H25 -> 112000000 | D25: ☜ 수입예산과 지출예산 총액은 일치해야 하며, 일치 시 회색으로 바뀝니다. | F25: =SUBTOTAL(9,표7_452[국고보조금]) -> 100000000 | G25: =SUBTOTAL(9,표7_452[자기부담금]) -> 12000000 | H25: =SUBTOTAL(9,표7_452[총액]) -> 112000000
A26: 구분 | D26: 내역 | F26: 재원구분
A27: 번호 | B27: 경비 | C27: 사업유형 | D27: 보조세목 | E27: 산출내역 | F27: 국고보조금 | G27: 자기부담금 | H27: 총액
A28: 1 | B28: 직접경비 | C28: 공연제작(신작) | D28: 고용부담금 | E28: 예술인고용보험 사업자부담금(필수편성) | F28: 500000 | H28: =표7_452[[#This Row],[자기부담금]]+표7_452[[#This Row],[국고보조금]] -> 500000 | J28: ☜ 본문은 예시이며, 삭제 후 단체의 사업 내용에 맞게 작성하세요.
A29: 2 | B29: 직접경비 | C29: 공연제작(신작) | D29: 공공요금및제세 | E29: 산재 또는 상해보험 등(필수편성) | F29: 500000 | H29: =표7_452[[#This Row],[자기부담금]]+표7_452[[#This Row],[국고보조금]] -> 500000
A30: 3 | B30: 직접경비 | C30: 공연제작(신작) | D30: 일반수용비 | E30: 회계검증수수료(필수편성) | F30: 900000 | H30: =표7_452[[#This Row],[자기부담금]]+표7_452[[#This Row],[국고보조금]] -> 900000
A31: 4 | B31: 경상경비 | C31: 공연제작(레퍼토리) | D31: 상용임금 | E31: 기획행정 1인*2,000,000원*12개월 | F31: 23000000 | G31: 1000000 | H31: =표7_452[[#This Row],[자기부담금]]+표7_452[[#This Row],[국고보조금]] -> 24000000
A32: 5 | B32: 경상경비 | C32: 공연제작(레퍼토리) | D32: 고용부담금 | E32: 4대보험 사업자부담금 | F32: 1000000 | G32: 1000000 | H32: =표7_452[[#This Row],[자기부담금]]+표7_452[[#This Row],[국고보조금]] -> 2000000
A33: 6 | B33: 경상경비 | C33: 공연제작(레퍼토리) | D33: 기타직보수 | E33: 홍보 1인*1,000,000원*5개월 | F33: 5000000 | H33: =표7_452[[#This Row],[자기부담금]]+표7_452[[#This Row],[국고보조금]] -> 5000000
A34: 7 | B34: 경상경비 | C34: 축제운영 | D34: 고용부담금 | E34: 4대보험 사업자부담금 | F34: 500000 | H34: =표7_452[[#This Row],[자기부담금]]+표7_452[[#This Row],[국고보조금]] -> 500000
A35: 8 | B35: 직접경비 | C35: 축제운영 | D35: 일용임금 | E35: 무대스텝 2인*250,000원*1회 | F35: 500000 | H35: =표7_452[[#This Row],[자기부담금]]+표7_452[[#This Row],[국고보조금]] -> 500000
A36: 9 | B36: 직접경비 | C36: 축제운영 | D36: 일반수용비 | E36: 연출사례비 1인*5,000,000원 | F36: 5000000 | H36: =표7_452[[#This Row],[자기부담금]]+표7_452[[#This Row],[국고보조금]] -> 5000000
A37: 10 | B37: 직접경비 | C37: 축제운영 | D37: 일반수용비 | E37: 연주자사례비 6인*500,000원*3개월 | F37: 9000000 | H37: =표7_452[[#This Row],[자기부담금]]+표7_452[[#This Row],[국고보조금]] -> 9000000
A38: 11 | B38: 직접경비 | C38: 축제운영 | D38: 일반수용비 | E38: 안무가사례비 1인*200,000원*5회 | F38: 1000000 | H38: =표7_452[[#This Row],[자기부담금]]+표7_452[[#This Row],[국고보조금]] -> 1000000
A39: 12 | B39: 직접경비 | C39: 축제운영 | D39: 일반수용비 | E39: 배우사례비 2인*500,000원*3개월 | F39: 3000000 | H39: =표7_452[[#This Row],[자기부담금]]+표7_452[[#This Row],[국고보조금]] -> 3000000
A40: 13 | B40: 직접경비 | C40: 축제운영 | D40: 일반수용비 | E40: 강사사례비 2인*200,000원*5회 | F40: 2000000 | H40: =표7_452[[#This Row],[자기부담금]]+표7_452[[#This Row],[국고보조금]] -> 2000000
A41: 14 | B41: 직접경비 | C41: 축제운영 | D41: 일반수용비 | E41: 홍보물인쇄 2,500,000원*4작품 | F41: 10000000 | H41: =표7_452[[#This Row],[자기부담금]]+표7_452[[#This Row],[국고보조금]] -> 10000000
A42: 15 | B42: 직접경비 | C42: 축제운영 | D42: 일반수용비 | E42: 홍보물디자인 2,500,000원*4작품 | F42: 10000000 | H42: =표7_452[[#This Row],[자기부담금]]+표7_452[[#This Row],[국고보조금]] -> 10000000
A43: 16 | B43: 직접경비 | C43: 축제운영 | D43: 일반수용비 | E43: 영상제작비 5,000,000원*2작품 | F43: 10000000 | H43: =표7_452[[#This Row],[자기부담금]]+표7_452[[#This Row],[국고보조금]] -> 10000000
...

Sheet 5.2025년 예산
A1: =IF('1.인력구성계획'!D8="","5. 2025년(2차년도) 예산집행계획-단체명","5. 2025년(2차년도) 예산집행계획-"&'1.인력구성계획'!D8) -> 5. 2025년(2차년도) 예산집행계획-단체명
A2: ※ 금액 입력 시 숫자만 입력해 주시기 바랍니다.
A3: ※ 수입예산 총액과 지출예산 총액은 같아야 합니다.
A4: ※ 국고보조금 내에서 경상경비는 창작공간의 경우 50% 이하, 그외 유형의 경우 30% 이하로 편성가능합니다.
A5: - 직접경비 : 중장기창작지원 프로젝트 추진을 위한 운영비
A6: - 경상경비 : 중장기창작지원 프로젝트 외 단체 일반 운영을 위한 경비(사무실, 연습실 임차료, 상근직원 인건비, 각종 세금 등)
A7: ※ 예술인고용보험료, 상해 및 산재보험 등 보험료에 대해 필수 편성해 주시기 바랍니다.
A8: ※ 아래 내용(파란색 글씨)은 예시입니다.
A9: ※ 회색 음영처리된 부분을 제외하고 작성해 주시기 바랍니다.
A11: 2025년(2차년도) 예산
A12: 1. 수입예산 : | B12: =F20 -> 112000000 | J12: [참고]2025년(2차년도) 예산 국고보조금 경비 비율
A13: 구분 | F13: 금액(원) | G13: 비율 | J13: 구분 | K13: 직접경비 | L13: 경상경비
A14: 공공재원(A) | D14: 한국문화예술위원회에 신청하는 보조금 | F14: ='3.예산총괄표'!E16 -> 100000000 | G14: =F14/$F$20 -> 0.89285714 | J14: 합계 | K14: =SUMIF(표7_4523[경비],K13,표7_4523[국고보조금]) -> 70100000 | L14: =SUMIF(표7_4523[경비],L13,표7_4523[국고보조금]) -> 29900000
A15: 사업수입(B) | D15: 사업 수입 | F15: ='3.예산총괄표'!E17 -> 0 | G15: =F15/$F$20 -> 0 | J15: 비율 | K15: =IFERROR(K14/$F$14,"-") -> 0.701 | L15: =IFERROR(L14/$F$14,"-") -> 0.299
D16: 사업 외 수입 | F16: ='3.예산총괄표'!E18 -> 0 | G16: =F16/$F$20 -> 0 | J16: ※ 국고보조금 내에서 경상경비는 창작공간의 경우 50% 이하, 그외 유형의 경우 30% 이하로 편성가능합니다.
A17: 민간재원(C) | D17: 기업협찬 후원금 | F17: ='3.예산총괄표'!E19 -> 5000000 | G17: =F17/$F$20 -> 0.044642857
D18: 개인기부금 | F18: ='3.예산총괄표'!E20 -> 0 | G18: =F18/$F$20 -> 0
A19: 자체부담경비(D) | D19: 순수한 단체의 자체 자금 | F19: ='3.예산총괄표'!E21 -> 7000000 | G19: =F19/$F$20 -> 0.0625
A20: 합계(E) | F20: =SUM(F14:F19) -> 112000000 | G20: =F20/$F$20 -> 1
A21: 자부담율 | D21: [(B+C+D)/합계(E)]×100% | G21: ='3.예산총괄표'!E23 -> 0.107
F24: 국고보조금 합계 | G24: 자기부담금 합계 | H24: 총 합계
A25: 2. 지출예산 : | B25: =H25 -> 112000000 | D25: ☜ 수입예산과 지출예산 총액은 일치해야 하며, 일치 시 회색으로 바뀝니다. | F25: =SUBTOTAL(9,F28:F127) -> 100000000 | G25: =SUBTOTAL(9,G28:G127) -> 12000000 | H25: =SUBTOTAL(9,H28:H127) -> 112000000
A26: 구분 | D26: 내역 | F26: 재원구분
A27: 번호 | B27: 경비 | C27: 사업유형 | D27: 보조세목 | E27: 산출내역 | F27: 국고보조금 | G27: 자기부담금 | H27: 총액
A28: 1 | B28: 직접경비 | C28: 공연제작(신작) | D28: 고용부담금 | E28: 예술인고용보험 사업자부담금(필수편성) | F28: 500000 | H28: =표7_4523[[#This Row],[자기부담금]]+표7_4523[[#This Row],[국고보조금]] -> 500000 | J28: ☜ 본문은 예시이며, 삭제 후 단체의 사업 내용에 맞게 작성하세요.
A29: 2 | B29: 직접경비 | C29: 공연제작(신작) | D29: 공공요금및제세 | E29: 산재 또는 상해보험 등(필수편성) | F29: 500000 | H29: =표7_4523[[#This Row],[자기부담금]]+표7_4523[[#This Row],[국고보조금]] -> 500000
A30: 3 | B30: 직접경비 | C30: 공연제작(신작) | D30: 일반수용비 | E30: 회계검증수수료(필수편성) | F30: 900000 | H30: =표7_4523[[#This Row],[자기부담금]]+표7_4523[[#This Row],[국고보조금]] -> 900000
A31: 4 | B31: 경상경비 | C31: 공연제작(신작) | D31: 상용임금 | E31: 기획행정 1인*2,000,000원*12개월 | F31: 23000000 | G31: 1000000 | H31: =표7_4523[[#This Row],[자기부담금]]+표7_4523[[#This Row],[국고보조금]] -> 24000000
A32: 5 | B32: 경상경비 | C32: 공연제작(신작) | D32: 고용부담금 | E32: 4대보험 사업자부담금 | F32: 1000000 | G32: 1000000 | H32: =표7_4523[[#This Row],[자기부담금]]+표7_4523[[#This Row],[국고보조금]] -> 2000000
A33: 6 | B33: 경상경비 | C33: 공연제작(신작) | D33: 기타직보수 | E33: 홍보 1인*1,000,000원*5개월 | F33: 5000000 | H33: =표7_4523[[#This Row],[자기부담금]]+표7_4523[[#This Row],[국고보조금]] -> 5000000
A34: 7 | B34: 경상경비 | C34: 공연제작(레퍼토리) | D34: 고용부담금 | E34: 4대보험 사업자부담금 | F34: 500000 | H34: =표7_4523[[#This Row],[자기부담금]]+표7_4523[[#This Row],[국고보조금]] -> 500000
A35: 8 | B35: 직접경비 | C35: 공연제작(레퍼토리) | D35: 일용임금 | E35: 무대스텝 2인*250,000원*1회 | F35: 500000 | H35: =표7_4523[[#This Row],[자기부담금]]+표7_4523[[#This Row],[국고보조금]] -> 500000
A36: 9 | B36: 직접경비 | C36: 축제운영 | D36: 일반수용비 | E36: 연출사례비 1인*5,000,000원 | F36: 5000000 | H36: =표7_4523[[#This Row],[자기부담금]]+표7_4523[[#This Row],[국고보조금]] -> 5000000
A37: 10 | B37: 직접경비 | C37: 축제운영 | D37: 일반수용비 | E37: 연주자사례비 6인*500,000원*3개월 | F37: 9000000 | H37: =표7_4523[[#This Row],[자기부담금]]+표7_4523[[#This Row],[국고보조금]] -> 9000000
A38: 11 | B38: 직접경비 | C38: 축제운영 | D38: 일반수용비 | E38: 안무가사례비 1인*200,000원*5회 | F38: 1000000 | H38: =표7_4523[[#This Row],[자기부담금]]+표7_4523[[#This Row],[국고보조금]] -> 1000000
A39: 12 | B39: 직접경비 | C39: 축제운영 | D39: 일반수용비 | E39: 배우사례비 2인*500,000원*3개월 | F39: 3000000 | H39: =표7_4523[[#This Row],[자기부담금]]+표7_4523[[#This Row],[국고보조금]] -> 3000000
A40: 13 | B40: 직접경비 | C40: 축제운영 | D40: 일반수용비 | E40: 강사사례비 2인*200,000원*5회 | F40: 2000000 | H40: =표7_4523[[#This Row],[자기부담금]]+표7_4523[[#This Row],[국고보조금]] -> 2000000
A41: 14 | B41: 직접경비 | C41: 공연비평 | D41: 일반수용비 | E41: 홍보물인쇄 2,500,000원*4작품 | F41: 10000000 | H41: =표7_4523[[#This Row],[자기부담금]]+표7_4523[[#This Row],[국고보조금]] -> 10000000
A42: 15 | B42: 직접경비 | C42: 공연비평 | D42: 일반수용비 | E42: 홍보물디자인 2,500,000원*4작품 | F42: 10000000 | H42: =표7_4523[[#This Row],[자기부담금]]+표7_4523[[#This Row],[국고보조금]] -> 10000000
A43: 16 | B43: 직접경비 | C43: 공연비평 | D43: 일반수용비 | E43: 영상제작비 5,000,000원*2작품 | F43: 10000000 | H43: =표7_4523[[#This Row],[자기부담금]]+표7_4523[[#This Row],[국고보조금]] -> 10000000
...

Sheet 6.2026년 예산
A1: =IF('1.인력구성계획'!D8="","6. 2026년(3차년도) 예산집행계획-단체명","6. 2026년(3차년도) 예산집행계획-"&'1.인력구성계획'!D8) -> 6. 2026년(3차년도) 예산집행계획-단체명
A2: ※ 금액 입력 시 숫자만 입력해 주시기 바랍니다.
A3: ※ 수입예산 총액과 지출예산 총액은 같아야 합니다.
A4: ※ 국고보조금 내에서 경상경비는 창작공간의 경우 50% 이하, 그외 유형의 경우 30% 이하로 편성가능합니다.
A5: - 직접경비 : 중장기창작지원 프로젝트 추진을 위한 운영비
A6: - 경상경비 : 중장기창작지원 프로젝트 외 단체 일반 운영을 위한 경비(사무실, 연습실 임차료, 상근직원 인건비, 각종 세금 등)
A7: ※ 예술인고용보험료, 상해 및 산재보험 등 보험료에 대해 필수 편성해 주시기 바랍니다.
A8: ※ 아래 내용(파란색 글씨)은 예시입니다.
A9: ※ 회색 음영처리된 부분을 제외하고 작성해 주시기 바랍니다.
A11: 2026년(3차년도) 예산
A12: 1. 수입예산 : | B12: =F20 -> 112000000 | J12: [참고]2026년(3차년도) 예산 국고보조금 경비 비율
A13: 구분 | F13: 금액(원) | G13: 비율 | J13: 구분 | K13: 직접경비 | L13: 경상경비
A14: 공공재원(A) | D14: 한국문화예술위원회에 신청하는 보조금 | F14: ='3.예산총괄표'!F16 -> 100000000 | G14: =F14/$F$20 -> 0.89285714 | J14: 합계 | K14: =SUMIF(표7_45[경비],K13,표7_45[국고보조금]) -> 70100000 | L14: =SUMIF(표7_45[경비],L13,표7_45[국고보조금]) -> 29900000
A15: 사업수입(B) | D15: 사업 수입 | F15: ='3.예산총괄표'!F17 -> 1000000 | G15: =F15/$F$20 -> 0.0089285714 | J15: 비율 | K15: =IFERROR(K14/$F$14,"-") -> 0.701 | L15: =IFERROR(L14/$F$14,"-") -> 0.299
D16: 사업 외 수입 | F16: ='3.예산총괄표'!F18 -> 0 | G16: =F16/$F$20 -> 0 | J16: ※ 국고보조금 내에서 경상경비는 창작공간의 경우 50% 이하, 그외 유형의 경우 30% 이하로 편성가능합니다.
A17: 민간재원(C) | D17: 기업협찬 후원금 | F17: ='3.예산총괄표'!F19 -> 0 | G17: =F17/$F$20 -> 0
D18: 개인기부금 | F18: ='3.예산총괄표'!F20 -> 0 | G18: =F18/$F$20 -> 0
A19: 자체부담경비(D) | D19: 순수한 단체의 자체 자금 | F19: ='3.예산총괄표'!F21 -> 11000000 | G19: =F19/$F$20 -> 0.098214286
A20: 합계(E) | F20: =SUM(F13:F19) -> 112000000 | G20: =F20/$F$20 -> 1
A21: 자부담율 | D21: [(B+C+D)/합계(E)]×100% | G21: ='3.예산총괄표'!F23 -> 0.107
F25: 국고보조금 합계 | G25: 자기부담금 합계 | H25: 총 합계
A26: 2. 지출예산 : | B26: =H26 -> 112000000 | D26: ☜ 수입예산과 지출예산 총액은 일치해야 하며, 일치 시 회색으로 바뀝니다. | F26: =SUBTOTAL(9,F29:F128) -> 100000000 | G26: =SUBTOTAL(9,G29:G128) -> 12000000 | H26: =SUBTOTAL(9,H29:H128) -> 112000000
A27: 구분 | D27: 내역 | F27: 재원구분
A28: 번호 | B28: 경비 | C28: 사업유형 | D28: 보조세목 | E28: 산출내역 | F28: 국고보조금 | G28: 자기부담금 | H28: 총액
A29: 1 | B29: 직접경비 | C29: 공연제작(신작) | D29: 고용부담금 | E29: 예술인고용보험 사업자부담금(필수편성) | F29: 500000 | H29: =표7_45[[#This Row],[자기부담금]]+표7_45[[#This Row],[국고보조금]] -> 500000 | J29: ☜ 본문은 예시이며, 삭제 후 단체의 사업 내용에 맞게 작성하세요.
A30: 2 | B30: 직접경비 | C30: 공연제작(신작) | D30: 공공요금및제세 | E30: 산재 또는 상해보험 등(필수편성) | F30: 500000 | H30: =표7_45[[#This Row],[자기부담금]]+표7_45[[#This Row],[국고보조금]] -> 500000
A31: 3 | B31: 직접경비 | C31: 공연제작(신작) | D31: 일반수용비 | E31: 회계검증수수료(필수편성) | F31: 900000 | H31: =표7_45[[#This Row],[자기부담금]]+표7_45[[#This Row],[국고보조금]] -> 900000
A32: 4 | B32: 경상경비 | C32: 공연비평 | D32: 상용임금 | E32: 기획행정 1인*2,000,000원*12개월 | F32: 23000000 | G32: 1000000 | H32: =표7_45[[#This Row],[자기부담금]]+표7_45[[#This Row],[국고보조금]] -> 24000000
A33: 5 | B33: 경상경비 | C33: 공연비평 | D33: 고용부담금 | E33: 4대보험 사업자부담금 | F33: 1000000 | G33: 1000000 | H33: =표7_45[[#This Row],[자기부담금]]+표7_45[[#This Row],[국고보조금]] -> 2000000
A34: 6 | B34: 경상경비 | C34: 공연비평 | D34: 기타직보수 | E34: 홍보 1인*1,000,000원*5개월 | F34: 5000000 | H34: =표7_45[[#This Row],[자기부담금]]+표7_45[[#This Row],[국고보조금]] -> 5000000
A35: 7 | B35: 경상경비 | C35: 공연제작(레퍼토리) | D35: 고용부담금 | E35: 4대보험 사업자부담금 | F35: 500000 | H35: =표7_45[[#This Row],[자기부담금]]+표7_45[[#This Row],[국고보조금]] -> 500000
A36: 8 | B36: 직접경비 | C36: 공연제작(레퍼토리) | D36: 일용임금 | E36: 무대스텝 2인*250,000원*1회 | F36: 500000 | H36: =표7_45[[#This Row],[자기부담금]]+표7_45[[#This Row],[국고보조금]] -> 500000
A37: 9 | B37: 직접경비 | C37: 공연제작(레퍼토리) | D37: 일반수용비 | E37: 연출사례비 1인*5,000,000원 | F37: 5000000 | H37: =표7_45[[#This Row],[자기부담금]]+표7_45[[#This Row],[국고보조금]] -> 5000000
A38: 10 | B38: 직접경비 | C38: 축제운영 | D38: 일반수용비 | E38: 연주자사례비 6인*500,000원*3개월 | F38: 9000000 | H38: =표7_45[[#This Row],[자기부담금]]+표7_45[[#This Row],[국고보조금]] -> 9000000
A39: 11 | B39: 직접경비 | C39: 축제운영 | D39: 일반수용비 | E39: 안무가사례비 1인*200,000원*5회 | F39: 1000000 | H39: =표7_45[[#This Row],[자기부담금]]+표7_45[[#This Row],[국고보조금]] -> 1000000
A40: 12 | B40: 직접경비 | C40: 축제운영 | D40: 일반수용비 | E40: 배우사례비 2인*500,000원*3개월 | F40: 3000000 | H40: =표7_45[[#This Row],[자기부담금]]+표7_45[[#This Row],[국고보조금]] -> 3000000
A41: 13 | B41: 직접경비 | C41: 축제운영 | D41: 일반수용비 | E41: 강사사례비 2인*200,000원*5회 | F41: 2000000 | H41: =표7_45[[#This Row],[자기부담금]]+표7_45[[#This Row],[국고보조금]] -> 2000000
A42: 14 | B42: 직접경비 | C42: 축제운영 | D42: 일반수용비 | E42: 홍보물인쇄 2,500,000원*4작품 | F42: 10000000 | H42: =표7_45[[#This Row],[자기부담금]]+표7_45[[#This Row],[국고보조금]] -> 10000000
A43: 15 | B43: 직접경비 | C43: 축제운영 | D43: 일반수용비 | E43: 홍보물디자인 2,500,000원*4작품 | F43: 10000000 | H43: =표7_45[[#This Row],[자기부담금]]+표7_45[[#This Row],[국고보조금]] -> 10000000
A44: 16 | B44: 직접경비 | C44: 축제운영 | D44: 일반수용비 | E44: 영상제작비 5,000,000원*2작품 | F44: 10000000 | H44: =표7_45[[#This Row],[자기부담금]]+표7_45[[#This Row],[국고보조금]] -> 10000000
...

Sheet 참고. 편성가능한 예산세목
A1: [참고] 편성가능한 예산세목
A2: 보조세목 | B2: 편성가능한 항목 | C2: 비고
A3: 상용임금 | B3: ㅇ 지속 고용하는 직원에 대한 보수
B4: ㅇ 4대보험 사업자부담금
A5: 일용임금 | B5: ㅇ 아르바이트 및 보조인력 임금
B6: ㅇ 2대보험 사업자부담금
A7: 고용부담금 | B7: ㅇ 4대보험, 2대보험 사업자부담금
B8: ㅇ (필수편성) 예술인고용보험 사업자부담금
A9: 일반수용비 | B9: ㅇ 사례비(원천세 포함)
B10: ㅇ 안내·홍보물 등 제작비
B11: ㅇ 출판·인쇄비
B12: ㅇ 재료 및 소모성 물품 구입비
B13: ㅇ 무대 및 소품 등 제작비
B14: ㅇ 저작권료
B15: ㅇ 공연장 안전관리 컨설팅비 | C15: ㅇ 안전관리 미흡 공연장에 해당하거나 공연장 안전관리 컨설팅을 원하는 단체 대상으로 추후 별도 안내
B16: ㅇ 회계검사 수수료 | C16: ㅇ 총사업비별 회계검증수수료 (매년 편성) - 2천만원 이상 ~ 3천만원 미만 : 302,000원 - 3천만원 이상 ~ 4천만원 미만 : 360,000원 - 4천만원 이상 ~ 5천만원 미만 : 390,000원 - 5천만원 이상 ~ 6천만원 미만 : 541,000원 - 6천만원 이상 ~ 7천만원 미만 : 586,000원 - 7천만원 이상 ~ 8천만원 미만 : 631,000원 - 8천만원 이상 ~ 9천만원 미만 : 676,000원 - 9천만원 이상 ~ 1억원 미만 : 722,000원 - 1억원 이상 ~ 2억원 미만 : 908,000원 - 2억원 이상 ~ 3억원 미만 : 957,000원 - 3억원 이상 ~ 4억원 미만 : 988,000원 - 4억원 이상 ~ 5억원 미만 : 1,032,000원
B17: ㅇ 영유아 자녀돌봄비 | C17: ㅇ 본 사업기간 중 참여 예술인의 영유아 자녀 돌봄을 위한 돌보미 사례비 편성 - 1년 중 1인당 최대 80시간 내 사용 가능하며, 돌봄비는 1시간 당 최대 1만원 책정 가능
A18: 공공요금 및 제세 | B18: ㅇ (필수편성) 보험료(행사보험, 산재 및 상해보험, 화재보험 등)
B19: ㅇ 공공요금(전기료 및 우편료 등)
A20: 임차료 | B20: ㅇ 조명, 음향, 악기 등 임차료
B21: ㅇ 차량(자동차, 대형버스)
B22: ㅇ 공간 임차 및 대관료(공연, 연습, 워크숍 진행 등)
A23: 국내여비 | B23: ㅇ 교통비, 숙박비, 유류비 등 | C23: ㅇ 공무원 여비규정에 따라 한도 내 실비 - 교통비 : 항공, 철도, 선박, 버스 운임료 - 숙박비 : 서울특별시 10만원/광역시 8만원/그 외 7만원 * 제주특별자치도, 세종특별자치시는 7만원 한도
A24: 국외여비 | B24: ㅇ 교통비(항공권), 숙박비
B25: ㅇ 외빈 초청에 따른 여비(항공권 및 숙박비)
A26: 사업추진비 | B26: ㅇ 간담회비용 (워크숍, 간담회 등)

Sheet 유효성검사목록
A1: 보조세목 | B1: 비목 | C1: 예산
A2: 공공요금및제세 | B2: 운영비 | C2: 100000000
A3: 국내여비 | B3: 여비 | C3: 200000000
A4: 국외여비 | B4: 여비
A5: 기타직보수 | B5: 인건비
A6: 사업추진비 | B6: 업무추진비
A7: 상용임금 | B7: 인건비
A8: 일반수용비 | B8: 운영비
A9: 일용임금 | B9: 인건비
A10: 임차료 | B10: 운영비
A11: 고용부담금
